BEGIN:VCALENDAR
VERSION:2.0
PRODID:-//Acme Widgets\, Inc.//NONSGML ExportToCalendar//EN
CALSCALE:GREGORIAN
BEGIN:VEVENT
DTSTAMP:20260420T164647Z
UID:40128c4e-6fc5-4870-b518-350babddd31d
DTSTART:20260422T153000
DTEND:20260422T154500
DESCRIPTION:Inspection for 3A Crabapple Street\, MELONBA NSW 2765
LOCATION:3A Crabapple Street\, MELONBA NSW 2765
SUMMARY:3A Crabapple Street\, MELONBA NSW 2765
END:VEVENT
END:VCALENDAR
