BEGIN:VCALENDAR
VERSION:2.0
PRODID:-//Acme Widgets\, Inc.//NONSGML ExportToCalendar//EN
CALSCALE:GREGORIAN
BEGIN:VEVENT
DTSTAMP:20260422T003849Z
UID:80e7bbe7-1f37-485c-b708-bf5a64a0ae0b
DTSTART:20260423T161500
DTEND:20260423T163000
DESCRIPTION:Inspection for 40A Angara\, GLENWOOD NSW 2768
LOCATION:40A Angara\, GLENWOOD NSW 2768
SUMMARY:40A Angara\, GLENWOOD NSW 2768
END:VEVENT
END:VCALENDAR
