BEGIN:VCALENDAR
VERSION:2.0
PRODID:-//Acme Widgets\, Inc.//NONSGML ExportToCalendar//EN
CALSCALE:GREGORIAN
BEGIN:VEVENT
DTSTAMP:20260423T144038Z
UID:a4fffa63-1c88-4f3b-abe1-8cfdbf637611
DTSTART:20260425T115500
DTEND:20260425T121000
DESCRIPTION:Inspection for 43A Taronga Street\, BLACKTOWN NSW 2148
LOCATION:43A Taronga Street\, BLACKTOWN NSW 2148
SUMMARY:43A Taronga Street\, BLACKTOWN NSW 2148
END:VEVENT
END:VCALENDAR
