BEGIN:VCALENDAR
VERSION:2.0
PRODID:-//Acme Widgets\, Inc.//NONSGML ExportToCalendar//EN
CALSCALE:GREGORIAN
BEGIN:VEVENT
DTSTAMP:20260422T003342Z
UID:4c831509-b170-4052-8a26-c786edfd5050
DTSTART:20260422T161500
DTEND:20260422T163000
DESCRIPTION:Inspection for 40A Angara\, GLENWOOD NSW 2768
LOCATION:40A Angara\, GLENWOOD NSW 2768
SUMMARY:40A Angara\, GLENWOOD NSW 2768
END:VEVENT
END:VCALENDAR
